BEGIN:VCALENDAR
VERSION:2.0
PRODID:-//wp-events-plugin.com//7.2.3.1//EN
TZID:Europe/Brussels
X-WR-TIMEZONE:Europe/Brussels
BEGIN:VEVENT
UID:94@gt-info.de
DTSTART;TZID=Europe/Berlin:20250822T180000
DTEND;TZID=Europe/Berlin:20250822T190000
DTSTAMP:20250613T213913Z
URL:https://www.gt-info.de/events/freitag18-8/
SUMMARY:Freitag18 - Voodoo Blues Club
DESCRIPTION:Voodoo Blues Club\n2015 gegründet\, hat sich The Voodoo Hoodo
 o Blues Club mit den bisherigen Veröffentlichungen „Welcome To My Club
 “ (2016 SingleCoil Music) und „Wounds and Scars“ (2018 Single Coil M
 usic/Timezone) sowie „Live in Bremen“ (2020 Single Coil Music) zu eine
 m Bluesrock-Act auf internationalem Niveau entwickelt. Hierzu trugen auch 
 die Support-Gigs für die texanische Kultband Tito &amp\; Tarantula sowie
  umjubelte Auftritte in vielen legendären Blues-Clubs des Landes bei\, da
 runter der Kaiserkeller in Detmold\, die Lagerhalle in Osnabrück oder de
 r Meisenfrei in Bremen. Positive bis überschw.ngliche Reviews\, zum Beis
 piel in der Szene-Bibel „BluesNews“\, bestätigten diesen Eindruck. Mi
 ttlerweile spielt die Band als echtes Power-Trio\, was den Ansatz des Club
 s noch stärker deutlich macht: ehrlich und handgemacht. Bluesrock\, der a
 lte Helden ehrt und sich Neues traut\, irgendwo in einer Schnittmenge aus 
 ZZ Top\, Stevie Ray Vaughan und modernen Vertretern wie Gary Clarke Jr. od
 er den RivalSons.\n\nBild: Voodoo Blues Club
ATTACH;FMTTYPE=image/jpeg:https://www.gt-info.de/wp-content/uploads/2025/0
 6/DSCN50361-scaled.jpg
CATEGORIES:Konzert,Musikveranstaltung,Outdoor
LOCATION:Dreiecksplatz\, Königstraße 42\, 33330 Gütersloh\, Deutschland
X-APPLE-STRUCTURED-LOCATION;VALUE=URI;X-ADDRESS=Königstraße 42\, 33330 G
 ütersloh\, Deutschland;X-APPLE-RADIUS=100;X-TITLE=Dreiecksplatz:geo:0,0
END:VEVENT
BEGIN:VTIMEZONE
TZID:Europe/Berlin
X-LIC-LOCATION:Europe/Berlin
BEGIN:DAYLIGHT
DTSTART:20250330T030000
TZOFFSETFROM:+0100
TZOFFSETTO:+0200
TZNAME:CEST
END:DAYLIGHT
END:VTIMEZONE
END:VCALENDAR