BEGIN:VCALENDAR
VERSION:2.0
PRODID:-//wp-events-plugin.com//7.2.3.1//EN
TZID:Europe/Brussels
X-WR-TIMEZONE:Europe/Brussels
BEGIN:VEVENT
UID:89@gt-info.de
DTSTART;TZID=Europe/Berlin:20250801T180000
DTEND;TZID=Europe/Berlin:20250801T190000
DTSTAMP:20250613T213719Z
URL:https://www.gt-info.de/events/freitag18-7/
SUMMARY:Freitag18 - Joe Bennick
DESCRIPTION:Joe Bennick\nDer preisgekrönte Singer-Songwriter und Autor Joe
  Bennick bietet mit seiner Gitarre und mit seiner einzigartigen Stimme ein
  Live-Erlebnis der besonderen Klasse. Er erschafft mit seinen Songs und de
 n vielschichtigen Texten Klangbilder zum Mitträumen und Eintauchen. Es si
 nd die Gegensätze\, die der Kunst von Joe Bennick den besonderen Reiz ver
 leihen. Er vereint hell strahlende Klänge mit energischen Texten und sanf
 te Poesie mit kraftvollem Sound. Damit zeigt er sich als stilistisch vielf
 ältiger Künstler\, dessen Musik nicht nur der Ausdruck seiner Lyrik ist
 \, sondern das Publikum in seine Familiengeschichte mitnimmt\, auf Reisen 
 und in die Höhen und Tiefen des Lebens. Damit ist seine Musik auch immer 
 eine Anspielung auf die Widersprüchlichkeit von Gefühlen.\n\nJoe Benni
 ck ist regelmäßiger Gast auf Deutschlands Konzertbühnen und hat dort s
 einen Platz im Singer-Songwriter- Spektrum zwischen Folk-Pop und Acoustic-
 Indie gefunden.\n\nFoto: Joe Bennick
ATTACH;FMTTYPE=image/jpeg:https://www.gt-info.de/wp-content/uploads/2025/0
 6/Joe-Bennick-Portrait-bw-1-scaled.jpg
CATEGORIES:Konzert,Musikveranstaltung,Outdoor
LOCATION:Dreiecksplatz\, Königstraße 42\, 33330 Gütersloh\, Deutschland
X-APPLE-STRUCTURED-LOCATION;VALUE=URI;X-ADDRESS=Königstraße 42\, 33330 G
 ütersloh\, Deutschland;X-APPLE-RADIUS=100;X-TITLE=Dreiecksplatz:geo:0,0
END:VEVENT
BEGIN:VTIMEZONE
TZID:Europe/Berlin
X-LIC-LOCATION:Europe/Berlin
BEGIN:DAYLIGHT
DTSTART:20250330T030000
TZOFFSETFROM:+0100
TZOFFSETTO:+0200
TZNAME:CEST
END:DAYLIGHT
END:VTIMEZONE
END:VCALENDAR