BEGIN:VCALENDAR
VERSION:2.0
PRODID:-//wp-events-plugin.com//7.2.3.1//EN
TZID:Europe/Brussels
X-WR-TIMEZONE:Europe/Brussels
BEGIN:VEVENT
UID:88@gt-info.de
DTSTART;TZID=Europe/Berlin:20250725T180000
DTEND;TZID=Europe/Berlin:20250725T190000
DTSTAMP:20250613T213648Z
URL:https://www.gt-info.de/events/freitag18-6/
SUMMARY:Freitag18 - Showdown
DESCRIPTION:Showdown\nShowdown aus Bielefeld sind gekommen\, um ihr Publiku
 m mit der vollen Kraft klassischen Heavy Metals und Hard Rocks von den Fu
 ̈.en zu fegen. Mit ihrer Musik\, ihrem Auftreten und ihren Liveshows fack
 elt diese Band jede Bühne ab und bringt jede Crowd zum Ausrasten. Die am
 bitionierte Band besteht momentan aus Nikki Z\, Glen Vega und Donny Rage. 
 Mit ihrem Debütalbum “Showdown”\, das im Dezember 2020 erschienen is
 t\, der EP “Feel The Heat” von 2023 und einem noch unveröffentlichten
  zweiten Album haben Showdown mehr als genug Munition parat\, um ihrem Pub
 likum ordentlich einzuheizen. Funkensprühende Riffs\, eine donnernde Rhy
 thmusabteilung\, glänzende Soli\, packende Melodien und kraftvoller Gesan
 g\, was will man mehr? “Ihr habt Bock\, richtig abzurocken? Dann habt ih
 r mit dieser Band gefunden\, wonach ihr gesucht habt”\, kündigen die M
 usiker selbstbewusst an.\n\nBild: Showdown Bandfoto
ATTACH;FMTTYPE=image/jpeg:https://www.gt-info.de/wp-content/uploads/2025/0
 6/Showdown-Bandfoto.jpg
CATEGORIES:Konzert,Musikveranstaltung,Outdoor
LOCATION:Dreiecksplatz\, Königstraße 42\, 33330 Gütersloh\, Deutschland
X-APPLE-STRUCTURED-LOCATION;VALUE=URI;X-ADDRESS=Königstraße 42\, 33330 G
 ütersloh\, Deutschland;X-APPLE-RADIUS=100;X-TITLE=Dreiecksplatz:geo:0,0
END:VEVENT
BEGIN:VTIMEZONE
TZID:Europe/Berlin
X-LIC-LOCATION:Europe/Berlin
BEGIN:DAYLIGHT
DTSTART:20250330T030000
TZOFFSETFROM:+0100
TZOFFSETTO:+0200
TZNAME:CEST
END:DAYLIGHT
END:VTIMEZONE
END:VCALENDAR