BEGIN:VCALENDAR
VERSION:2.0
PRODID:-//wp-events-plugin.com//7.2.3.1//EN
TZID:Europe/Brussels
X-WR-TIMEZONE:Europe/Brussels
BEGIN:VEVENT
UID:87@gt-info.de
DTSTART;TZID=Europe/Berlin:20250718T180000
DTEND;TZID=Europe/Berlin:20250718T190000
DTSTAMP:20250613T213602Z
URL:https://www.gt-info.de/events/freitag18-5/
SUMMARY:Freitag18 - Greyhound‘s Washboard Band
DESCRIPTION:Greyhound‘s Washboard Band\nDas Waschbrett hat im Blues eine 
 lange Tradition. Was aber Greyhound ‘s Washboard Band daraus macht\, du
 ̈rfte ziemlich einzigartig sein. Waschbrett Wolf\, der wohl einzige profe
 ssionelle Waschbrettist Europas\, hat sich aus einem (selbst geriffelten!)
  Waschbrett\, einer über 100 Jahre alten riesigen Basstrommel und versch
 iedenen umfunktionierten Haushaltsgegenständen eine Rhythmusmaschine gesc
 haffen\, die er wahlweise mit Fingerhüten oder mit Schneebesen bedient. 
 Das ist schon unterhaltsam genug\, aber gemeinsam mit der elektrischen Git
 arre von Greyhound George und der mal akustisch\, mal verzerrt gespielten 
 Bluesharp von Andy Grünert ergibt sich daraus der unwiderstehliche Groov
 e einer Bluesband der ganz besonderen Art. Ausgehend vom traditionellen Bl
 ues aus Mississippi oder Chicago\, hat die Band konsequent ihren eigenen S
 til entwickelt\, ohne dabei die Wurzeln des alten Blues aus den Augen zu v
 erlieren.\n\nBild: Gerald Oppermann
ATTACH;FMTTYPE=image/jpeg:https://www.gt-info.de/wp-content/uploads/2025/0
 6/IMG_4752-©Gerald_Oppermann-scaled.jpg
CATEGORIES:Konzert,Musikveranstaltung,Outdoor
LOCATION:Dreiecksplatz\, Königstraße 42\, 33330 Gütersloh\, Deutschland
X-APPLE-STRUCTURED-LOCATION;VALUE=URI;X-ADDRESS=Königstraße 42\, 33330 G
 ütersloh\, Deutschland;X-APPLE-RADIUS=100;X-TITLE=Dreiecksplatz:geo:0,0
END:VEVENT
BEGIN:VTIMEZONE
TZID:Europe/Berlin
X-LIC-LOCATION:Europe/Berlin
BEGIN:DAYLIGHT
DTSTART:20250330T030000
TZOFFSETFROM:+0100
TZOFFSETTO:+0200
TZNAME:CEST
END:DAYLIGHT
END:VTIMEZONE
END:VCALENDAR