BEGIN:VCALENDAR
VERSION:2.0
PRODID:-//wp-events-plugin.com//7.2.3.1//EN
TZID:Europe/Brussels
X-WR-TIMEZONE:Europe/Brussels
BEGIN:VEVENT
UID:86@gt-info.de
DTSTART;TZID=Europe/Berlin:20250711T180000
DTEND;TZID=Europe/Berlin:20250711T190000
DTSTAMP:20250613T213518Z
URL:https://www.gt-info.de/events/freitag18-4/
SUMMARY:Freitag18 - Odessa Projekt
DESCRIPTION:Odessa Projekt\nDie fünf Musiker des Odessa-Projekts vereint 
 die Liebe zur Musik Osteuropas. Im Programm reihen sich Klänge vom Balkan
  und aus Griechenland an Lieder\n\naus Mazedonien\, der Türkei und Russl
 and. Der Wechsel von Balkantänzen und Klezmer\, jiddischen und Romalieder
 n belebt das Programm der Band. Die Musik\n\nerzählt vom tanzenden Großv
 ater auf einer Roma-Hochzeit\, von der Brautsuche im mazedonischen Dorf\, 
 von den wundersamen Heilwässern der serbischen Stadt Niš\, von der jüd
 ischen Emigration nach Amerika und vom großen Glück\, das die Kinder br
 ingen. Mit mehrstimmigem Gesang\, mit Saxophon\, Klarinette\, Geige\, Akko
 rdeon\, Kontrabass und Percussion erzeugt das Odessa-Projekt eine vielfäl
 tige Klangbreite.\n\nDie Band nimmt den Zuhörer mit auf eine Reise quer d
 urch Osteuropa\, weiter zum jiddischen Theater am Broadway und zurück na
 ch Odessa\, dem Schmelztiegel der Kulturen.\n\nBild: Odessa Projekt
ATTACH;FMTTYPE=image/jpeg:https://www.gt-info.de/wp-content/uploads/2025/0
 6/Odessa-five-03.jpg
CATEGORIES:Konzert,Musikveranstaltung,Outdoor
LOCATION:Dreiecksplatz\, Königstraße 42\, 33330 Gütersloh\, Deutschland
X-APPLE-STRUCTURED-LOCATION;VALUE=URI;X-ADDRESS=Königstraße 42\, 33330 G
 ütersloh\, Deutschland;X-APPLE-RADIUS=100;X-TITLE=Dreiecksplatz:geo:0,0
END:VEVENT
BEGIN:VTIMEZONE
TZID:Europe/Berlin
X-LIC-LOCATION:Europe/Berlin
BEGIN:DAYLIGHT
DTSTART:20250330T030000
TZOFFSETFROM:+0100
TZOFFSETTO:+0200
TZNAME:CEST
END:DAYLIGHT
END:VTIMEZONE
END:VCALENDAR