BEGIN:VCALENDAR
VERSION:2.0
PRODID:-//wp-events-plugin.com//7.2.3.1//EN
TZID:Europe/Brussels
X-WR-TIMEZONE:Europe/Brussels
BEGIN:VEVENT
UID:85@gt-info.de
DTSTART;TZID=Europe/Berlin:20250704T180000
DTEND;TZID=Europe/Berlin:20250704T190000
DTSTAMP:20250613T213423Z
URL:https://www.gt-info.de/events/freitag18-3/
SUMMARY:Freitag18 - Trash and the Can
DESCRIPTION:Trash and the Can\nTrash and the Can (ehemals Backyard Ramblers
 )\, bekannt für ihre leidenschaftlichen und akkuraten Darbietungen\, bri
 ngen die Energie und das Gefühl von Rock auf eine Weise zurück\, die s
 owohl eingefleischte Fans als auch neue Hörer fesseln wird. Seit nunmehr 
 zehn Jahren ist die Band aus dem ostwestfälischen\n\nBünde auf den Bü
 hnen der Region und darüber hinaus unterwegs. Trash and the Can bestehen
  aus Patrick Beckmann (Bass/Gesang)\, Chris Peiffer (Gitarre)\, Olli Kient
 opp (Gitarre)\, Harzer Hellmann (Drums) und Ulli Otte (Tasten). Sie sind n
 icht nur Musiker\, sondern auch begeisterte Fans rockiger und melodischer\
 n\nMusik von Rockadellic bis Bluesabilly. Trash and the Can überzeugen s
 owohl mit eigenen Songs als auch mit gecoverten Titeln - das nennt man Gru
 ngedelic Bluesabilly Rock.\n\nBild: Trash and the Can
ATTACH;FMTTYPE=image/jpeg:https://www.gt-info.de/wp-content/uploads/2025/0
 6/Band-SWSchrift.jpg
CATEGORIES:Konzert,Musikveranstaltung,Outdoor
LOCATION:Dreiecksplatz\, Königstraße 42\, 33330 Gütersloh\, Deutschland
X-APPLE-STRUCTURED-LOCATION;VALUE=URI;X-ADDRESS=Königstraße 42\, 33330 G
 ütersloh\, Deutschland;X-APPLE-RADIUS=100;X-TITLE=Dreiecksplatz:geo:0,0
END:VEVENT
BEGIN:VTIMEZONE
TZID:Europe/Berlin
X-LIC-LOCATION:Europe/Berlin
BEGIN:DAYLIGHT
DTSTART:20250330T030000
TZOFFSETFROM:+0100
TZOFFSETTO:+0200
TZNAME:CEST
END:DAYLIGHT
END:VTIMEZONE
END:VCALENDAR