BEGIN:VCALENDAR
VERSION:2.0
PRODID:-//wp-events-plugin.com//7.2.3.1//EN
TZID:Europe/Brussels
X-WR-TIMEZONE:Europe/Brussels
BEGIN:VEVENT
UID:84@gt-info.de
DTSTART;TZID=Europe/Berlin:20250627T180000
DTEND;TZID=Europe/Berlin:20250627T190000
DTSTAMP:20250613T213324Z
URL:https://www.gt-info.de/events/freitag18-2/
SUMMARY:Freitag18 - Bfunk
DESCRIPTION:Bfunk\nDie sechsköpfige Band Bfunk aus Bielefeld ist eine dyna
 mische\, energiegeladene Formation\, die sich der Musikrichtung des groovi
 gen Funk verschrieben hat. Bfunk versteht es\, das Publikum mit Funk-Sound
 s zu begeistern. Die Musik ist ein wahrer Ohrenschmaus\, der direkt in die
  Beine geht. Die Band vereint gekonnt Elemente der Black- und Funk-Musik u
 nd präsentiert sowohl bekannte Hits als auch eigene Stücke. Von Stevie W
 onder\, Ole Borud\, Nils Landgren bis zu den Red Hot Chili Peppers und von
  Amy Winehouse bis Jan Delay - das Repertoire ist geprägt von treibendem 
 Funk. Was die Band besonders auszeichnet\, ist die Begeisterung und Energi
 e\, die sie auf der Bühne versprüht. Sowohl die seit vielen Jahren aktiv
 en Musiker als auch die beiden Frontfrauen (Saxophon/Gesang) schaffen es s
 pielend\, das Publikum mit ihrer Leidenschaft anzustecken und für eine un
 vergessliche Stimmung zu sorgen.
ATTACH;FMTTYPE=image/jpeg:https://www.gt-info.de/wp-content/uploads/2025/0
 6/Bfunk02-scaled.jpg
CATEGORIES:Konzert,Musikveranstaltung,Outdoor
LOCATION:Dreiecksplatz\, Königstraße 42\, 33330 Gütersloh\, Deutschland
X-APPLE-STRUCTURED-LOCATION;VALUE=URI;X-ADDRESS=Königstraße 42\, 33330 G
 ütersloh\, Deutschland;X-APPLE-RADIUS=100;X-TITLE=Dreiecksplatz:geo:0,0
END:VEVENT
BEGIN:VTIMEZONE
TZID:Europe/Berlin
X-LIC-LOCATION:Europe/Berlin
BEGIN:DAYLIGHT
DTSTART:20250330T030000
TZOFFSETFROM:+0100
TZOFFSETTO:+0200
TZNAME:CEST
END:DAYLIGHT
END:VTIMEZONE
END:VCALENDAR