BEGIN:VCALENDAR
VERSION:2.0
PRODID:-//wp-events-plugin.com//7.2.3.1//EN
TZID:Europe/Brussels
X-WR-TIMEZONE:Europe/Brussels
BEGIN:VEVENT
UID:92@gt-info.de
DTSTART;TZID=Europe/Berlin:20250808T180000
DTEND;TZID=Europe/Berlin:20250808T190000
DTSTAMP:20250613T213805Z
URL:https://www.gt-info.de/events/freitag18-11/
SUMMARY:Freitag18 - Matthias Lüke Duo
DESCRIPTION:Matthias Lüke Duo\n„Die Musik tut einfach gut und gibt Kraft
 “ ist ein Satz\, den man nach Konzerten des Singer-Songwriters Matthias 
 Lüke immer wieder hört. Voller Gefühl und Leidenschaft kreisen die se
 lbstgeschriebenen\, deutschsprachigen Songs rund um die Liebe und das Lebe
 n in all seinen Facetten. Von ruhig bis rockig treffen sie mitten ins Herz
 . Ganz lebensnah wechseln Licht und Schatten ab. Doch wie im Lied „Hinte
 r der Wolke“ dominiert eine positive und optimistische Grundstimmung. Di
 ese vermittelt der humorvolle Künstler auch in seinen Moderationen. Der 
 gebürtige Paderborner\, der 2014 sein Debüt-Album „Bei dir“ veröf
 fentlichte\, schreibt tiefsinnige und reife\, manchmal melancholische\, ab
 er immer hoffnungsvolle sowie mitreißende und lustige Songs. Eingängige 
 Melodien mit Hit-Charakter bleiben im Kopf. Dennoch zeichnet sich Lükes 
 Musik\, im Gegensatz zum Mainstream\, durch eine ganz persönliche Note au
 s.\n\nBild: Matthias Lüke
ATTACH;FMTTYPE=image/jpeg:https://www.gt-info.de/wp-content/uploads/2025/0
 6/Matthias-Lueke_Pressefoto_gross-scaled.jpg
CATEGORIES:Konzert,Musikveranstaltung,Outdoor
LOCATION:Dreiecksplatz\, Königstraße 42\, 33330 Gütersloh\, Deutschland
X-APPLE-STRUCTURED-LOCATION;VALUE=URI;X-ADDRESS=Königstraße 42\, 33330 G
 ütersloh\, Deutschland;X-APPLE-RADIUS=100;X-TITLE=Dreiecksplatz:geo:0,0
END:VEVENT
BEGIN:VTIMEZONE
TZID:Europe/Berlin
X-LIC-LOCATION:Europe/Berlin
BEGIN:DAYLIGHT
DTSTART:20250330T030000
TZOFFSETFROM:+0100
TZOFFSETTO:+0200
TZNAME:CEST
END:DAYLIGHT
END:VTIMEZONE
END:VCALENDAR