BEGIN:VCALENDAR
VERSION:2.0
PRODID:-//wp-events-plugin.com//7.2.3.1//EN
TZID:Europe/Brussels
X-WR-TIMEZONE:Europe/Brussels
BEGIN:VEVENT
UID:66@gt-info.de
DTSTART;TZID=Europe/Berlin:20250529T170000
DTEND;TZID=Europe/Berlin:20250529T170000
DTSTAMP:20250523T071216Z
URL:https://www.gt-info.de/events/frau-jana-und-die-anderen-im-buergerkiez
 /
SUMMARY:Frau Jana und die Anderen im Bürgerkiez
DESCRIPTION:Ein Auftritt von "Frau Jana und die Anderen" ist etwas Besonder
 es: Handgemachte Musik mit Spaß\, Können und tollen Stimmen.\nAuf nichts
  weniger kann sich das Weberei-Publikum am Donnerstag\, den  29. Mai ab 1
 8:00 Uhr freuen. Die Band um die Sängerin Jana konzentriert sich auf die 
 besten Rock und Popsongs der 1990er und 2000er Jahre.\nDie vier Musiker de
 r Rock/Pop Covershow “Frau Jana und die Anderen“ aus Ostwestfalen habe
 n langjährige Bühnenerfahrung. Sängerin Jana und Schlagzeuger Sven sind
  in den Dreißigern\, Bassist Ralf und Gitarrist Elmar haben gut 20 Jahre 
 mehr auf dem Buckel. Sie bringen ihre unterschiedlichen musikalischen Hint
 ergründe und Vorlieben in die Band ein und haben sie zu einem homogenen P
 rogramm kombiniert.\n\nDie vier Musiker:innen spielen die Instrumente eine
 r klassischen Rocktriobesetzung - Schlagzeug\, Bass\, Gitarre - das Keyboa
 rd kommt nur in einigen wenigen Liedern zum Einsatz. Die Band verzichtet a
 uf jegliche Zuspieler bei den Auftritten\, alles ist Live. Der Fokus liegt
  auf gutem Gesang und viel Spaß - für die Band und natürlich für das P
 ublikum.\n„Wir spielen Songs\, die alle kennen\, die aber nicht oft live
  performt werden"\, lautet das Motto von “Frau Jana und die Anderen”.\
 n\nDer Schwerpunkt liegt auf rockigen Klängen wie Metallica\, Green Day\,
  Foo Fighters\, Rage against the Machine oder auch Songs von Tom Petty\, M
 ike &amp\; the Mechanics oder den Goo Goo Dolls. \n\nEin Herzensanliegen 
 ist der Band der Einsatz für gemeinnützige Zwecke. Die Einnahmen aus Auf
 tritten werden entsprechend gespendet\, momentan unterstützt die Band das
  Projekt „Jedem Kind ein Hobby“ in Steinhagen.\n\nDer Biergarten ist a
 b 17:00 Uhr geöffnet. Der Eintritt ist frei.\n\nFoto: Frau Jana und die A
 nderen
ATTACH;FMTTYPE=image/jpeg:https://www.gt-info.de/wp-content/uploads/2025/0
 5/Foto_Frau_JANA_und_die_Anderen-scaled.jpg
CATEGORIES:Musikveranstaltung
LOCATION:Die Weberei\,  Bogenstraße 1-8\, 33330 Gütersloh\, Deutschland
X-APPLE-STRUCTURED-LOCATION;VALUE=URI;X-ADDRESS= Bogenstraße 1-8\, 33330 G
 ütersloh\, Deutschland;X-APPLE-RADIUS=100;X-TITLE=Die Weberei:geo:0,0
END:VEVENT
BEGIN:VTIMEZONE
TZID:Europe/Berlin
X-LIC-LOCATION:Europe/Berlin
BEGIN:DAYLIGHT
DTSTART:20250330T030000
TZOFFSETFROM:+0100
TZOFFSETTO:+0200
TZNAME:CEST
END:DAYLIGHT
END:VTIMEZONE
END:VCALENDAR