BEGIN:VCALENDAR
VERSION:2.0
PRODID:-//wp-events-plugin.com//7.2.3.1//EN
TZID:Europe/Brussels
X-WR-TIMEZONE:Europe/Brussels
BEGIN:VEVENT
UID:157@gt-info.de
DTSTART;TZID=Europe/Berlin:20251010T200000
DTEND;TZID=Europe/Berlin:20251010T200000
DTSTAMP:20250912T145240Z
URL:https://www.gt-info.de/events/fatcat-2/
SUMMARY:Fatcat
DESCRIPTION:Seit ihrer Gründung im Jahr 2013 spielen Fatcat in nahezu unve
 ränderter Besetzung und bleiben ihrem charakteristischen Funk­Sound treu
 . Das Zusammenspiel von Rhythmusgruppe und Horn­Section prägt den Bandso
 und\, in dem sich Elemente aus Funk\, Soul und Disco­Pop verbinden. Klare
  Bläsersätze\, treibende Grooves und eine organische Dynamik bestimmen d
 as Klangbild. Mit einem Gespür für musikalische Details und abwechslungs
 reiche Arrangements entwickeln Fatcat ihren Stil stetig weiter.
ATTACH;FMTTYPE=image/jpeg:https://www.gt-info.de/wp-content/uploads/2025/0
 9/FATCAT_More_Sugar_147_By_Felix_Groteloh.jpg
CATEGORIES:Musikveranstaltung
LOCATION:Stadthalle\, Kleiner Saal\, Friedrichstraße 10\, 33330 Gütersloh
 \, Deutschland
X-APPLE-STRUCTURED-LOCATION;VALUE=URI;X-ADDRESS=Friedrichstraße 10\, 33330
  Gütersloh\, Deutschland;X-APPLE-RADIUS=100;X-TITLE=Stadthalle\, Kleiner 
 Saal:geo:0,0
END:VEVENT
BEGIN:VTIMEZONE
TZID:Europe/Berlin
X-LIC-LOCATION:Europe/Berlin
BEGIN:DAYLIGHT
DTSTART:20250330T030000
TZOFFSETFROM:+0100
TZOFFSETTO:+0200
TZNAME:CEST
END:DAYLIGHT
END:VTIMEZONE
END:VCALENDAR