BEGIN:VCALENDAR
VERSION:2.0
PRODID:-//wp-events-plugin.com//7.2.3.1//EN
TZID:Europe/Brussels
X-WR-TIMEZONE:Europe/Brussels
BEGIN:VEVENT
UID:82@gt-info.de
DTSTART;TZID=Europe/Berlin:20250613T180000
DTEND;TZID=Europe/Berlin:20250613T190000
DTSTAMP:20250613T155653Z
URL:https://www.gt-info.de/events/downtown-flyers/
SUMMARY:Freitag18
DESCRIPTION:Die Downtown Flyers\nDie Downtown Flyers stammen aus den wilden
  70er Jahren. Geleitet von Legenden wie Bruce Springsteen\, Billy Idol\, P
 rince\, Robert Palmer und Kool and the Gang waren die fünf Jungs schon da
 mals unterwegs\, um dem Publikum mit Funk- und Rock Covern ordentlich einz
 uheizen. Mit einem runden Mix an Titeln aus den vergangenen fünf Pop-Deka
 den sorgen die Flyers für stetig durchgehende Tanzmusik. Dabei greifen si
 e sich nicht die viel zu oft gehörten Mainstream-Cover\, sondern bedienen
  sich aus der unterschätzten zweiten Reihe der Pop-\, Funk- und Rocklegen
 den. Mit dabei in Gütersloh: Henning Lewandowsky (Gesang)\, Nils Kuhlmann
  (Gitarre und Backing Vocals)\, Dr. Hans-Jörg Kühne (Saxophon)\, Uwe Kuh
 lmann (Bass) und Ari Riesenbeck (Schlagzeug und Backing Vocals).
ATTACH;FMTTYPE=image/jpeg:https://www.gt-info.de/wp-content/uploads/2025/0
 6/Downtown-Flyers4-scaled.jpg
CATEGORIES:Konzert,Musikveranstaltung
LOCATION:Dreiecksplatz\, Königstraße 42\, 33330 Gütersloh\, Deutschland
X-APPLE-STRUCTURED-LOCATION;VALUE=URI;X-ADDRESS=Königstraße 42\, 33330 G
 ütersloh\, Deutschland;X-APPLE-RADIUS=100;X-TITLE=Dreiecksplatz:geo:0,0
END:VEVENT
BEGIN:VTIMEZONE
TZID:Europe/Berlin
X-LIC-LOCATION:Europe/Berlin
BEGIN:DAYLIGHT
DTSTART:20250330T030000
TZOFFSETFROM:+0100
TZOFFSETTO:+0200
TZNAME:CEST
END:DAYLIGHT
END:VTIMEZONE
END:VCALENDAR