BEGIN:VCALENDAR
VERSION:2.0
PRODID:-//wp-events-plugin.com//7.2.3.1//EN
TZID:Europe/Brussels
X-WR-TIMEZONE:Europe/Brussels
BEGIN:VEVENT
UID:944@gt-info.de
DTSTART;TZID=Europe/Berlin:20260425T173000
DTEND;TZID=Europe/Berlin:20260425T190000
DTSTAMP:20260422T075122Z
URL:https://www.gt-info.de/events/die-wilde-nordsee-8/
SUMMARY:Die wilde Nordsee
DESCRIPTION:Eine spektakuläre Reise durch eines der unerforschtesten\, rau
 esten und zugleich faszinierendsten Meere Europas.
LOCATION:Bambi & Löwenherz\, Bogenstraße 3\, 33330 Gütersloh \, Nordrhei
 n-Westfalen \, 33330\, Deutschland
X-APPLE-STRUCTURED-LOCATION;VALUE=URI;X-ADDRESS=Bogenstraße 3\, 33330 Güt
 ersloh \, Nordrhein-Westfalen \, 33330\, Deutschland;X-APPLE-RADIUS=100;X-
 TITLE=Bambi & Löwenherz:geo:0,0
END:VEVENT
BEGIN:VTIMEZONE
TZID:Europe/Berlin
X-LIC-LOCATION:Europe/Berlin
BEGIN:DAYLIGHT
DTSTART:20260329T030000
TZOFFSETFROM:+0100
TZOFFSETTO:+0200
TZNAME:CEST
END:DAYLIGHT
END:VTIMEZONE
END:VCALENDAR