BEGIN:VCALENDAR
VERSION:2.0
PRODID:-//wp-events-plugin.com//7.2.3.1//EN
TZID:Europe/Brussels
X-WR-TIMEZONE:Europe/Brussels
BEGIN:VEVENT
UID:73@gt-info.de
DTSTART;TZID=Europe/Berlin:20250702T160000
DTEND;TZID=Europe/Berlin:20250702T170000
DTSTAMP:20250527T084931Z
URL:https://www.gt-info.de/events/die-weltenspringer-und-das-portal-der-tr
 aeume/
SUMMARY:Die Weltenspringer und das Portal der Träume
DESCRIPTION:Kindermusical mit 150 Schülerinnen und Schülern aus Güterslo
 her und Bielefelder Grundschulen sowie einer außerschulischen Jugendgrupp
 e\nDas diesjährige Kindermusical der „Kulturbrücke Cantara“ wird auf
  der Bühne des Theaters Gütersloh gezeigt. Initiiert von der Liz Mohn St
 iftung und der Bielefelder Gesellschaft in Bewegung wirken erneut 150 Sch
 ülerinnen und Schüler der Gütersloher Grundschulen Blankenhagen\, Katte
 nstroth und Sundern sowie der Bielefelder Grundschulen Ummeln und Martinsc
 hule an der Aufführung mit. Erstmals mit dabei sind auch Jugendliche der 
 „Kulturbrücke Cantara Youth“. Die außerschulische Jugendgruppe in Bi
 elefeld ergänzt die bisherigen Projektaktivitäten in Grundschulen nachha
 ltig.\n\n„Die Weltenspringer und das Portal der Träume“ erzählt die 
 abenteuerliche Reise einer Gruppe von Kindern und Jugendlichen\, die ein m
 ysteriöses Portal entdecken und darüber in faszinierende und unheimliche
  Welten katapultiert werden. Auf ihrer Suche nach einer besseren Zukunft b
 egegnet die Gruppe schillernden und ebenso beunruhigenden Orten\, in denen
  Spiel\, Überfluss und Dunkelheit ihre eigenen Herausforderungen bergen. 
 Doch mit Mut\, Zusammenhalt und ihren besonderen Kräften stellen die Kind
 er und Jugendlichen sich den Prüfungen und machen eine überraschende Ent
 deckung. Werden sie eine bessere Welt finden?\n\nIm Projekt „Kulturbrüc
 ke Cantara“ gewinnen Kinder und Jugendliche professionelle Einblicke in 
 verschiedene Kultursparten. Gemeinsam mit Theater-\, Tanz-\, Instrumental-
  und Gesangspädagog:innen entwickeln und gestalten sie jedes Jahr ihr eig
 enes Musical.\n\nTheaterregie: Canip Gündogdu\, Projektleitung/Gesang: Le
 ila Benazzouz\, Projektleitung/Choreografie\, Andreas Wegwerth\, Lichtdesi
 gn/Technik: Chris Umney\, Video/Animation: Joshua Götz\, Projektmanagemen
 t: Annika Frank\n\nDas Kindermusical wird musikalisch live begleitet vom 
 „ensemble vinorosso“ unter der Leitung von Florian Stubenvoll.\n\nAkko
 rdeon: Claudia Quakernack\, Percussion: Zena Christopoulou\n\nWeitere Term
 ine:\n\nFreitag\, 04. Juli 2025\, 19.30 Uhr\n\nSamstag\, 05. Juli 2025\, 1
 9.30 Uhr\n\nSonntag\, 06. Juli 2025\, 16.00 Uhr\n\nDienstag\, 08. Juli 202
 5\, 19.30 Uhr\n\nTheater\, Studiobühne\n\nFoto: Saal | Theater Gütersloh
  © Kai Uwe Oesterhelweg
ATTACH;FMTTYPE=image/jpeg:https://www.gt-info.de/wp-content/uploads/2025/0
 5/KRGT_Theatersaal_Stuhlreihe_schraeg_0071b__c__Kai_Uwe_Oesterhelweg.jpg
CATEGORIES:Konzert
LOCATION:Theater Gütersloh \, Großer Saal\, Hans-Werner-Henze-Platz 1\, G
 ütersloh\, Deutschland
X-APPLE-STRUCTURED-LOCATION;VALUE=URI;X-ADDRESS=Hans-Werner-Henze-Platz 1\,
  Gütersloh\, Deutschland;X-APPLE-RADIUS=100;X-TITLE=Theater Gütersloh \,
  Großer Saal:geo:0,0
END:VEVENT
BEGIN:VTIMEZONE
TZID:Europe/Berlin
X-LIC-LOCATION:Europe/Berlin
BEGIN:DAYLIGHT
DTSTART:20250330T030000
TZOFFSETFROM:+0100
TZOFFSETTO:+0200
TZNAME:CEST
END:DAYLIGHT
END:VTIMEZONE
END:VCALENDAR