BEGIN:VCALENDAR
VERSION:2.0
PRODID:-//wp-events-plugin.com//7.2.3.1//EN
TZID:Europe/Brussels
X-WR-TIMEZONE:Europe/Brussels
BEGIN:VEVENT
UID:132@gt-info.de
DTSTART;TZID=Europe/Berlin:20250912T193000
DTEND;TZID=Europe/Berlin:20250912T193000
DTSTAMP:20250812T170035Z
URL:https://www.gt-info.de/events/der-posaunengeneral-eine-auferstehung-4/
SUMMARY:Der Posaunengeneral – eine Auferstehung
DESCRIPTION:\n\nSchauspiel von Joachim Zelter\n\nUraufführung\n\nRegie und
  Bühne: Christian Schäfer\, Kostüme: Anna Sun Barthold-Torpai\nEs spiel
 en: Christiane Hagedorn\, Jacques Malan\, Stefan Salzmann\, Volker Schiewe
 r\, Salih Yayar\, Gymnasial-Posaunenchor Gütersloh\nAls Gäste: Martin Fu
 gmann\, Andreas Ksienzyk\, Max Oestersötebier\, Posaunenmission Bethel\n\
 nAbo: Theater der Welt I20\,–/28\,–/35\,– € (erm. 10\,-/14\,-/17\,
 50 €)\n\nIn einem Zweibettzimmer des Städtischen Klinikums liegt eine m
 agen­kranke\, mit dem Glauben und der Welt hadernde Pastorin neben einer 
 lungenkranken\, merkwürdig antiquiert wirkenden Gestalt. Tatsächlich wur
 de der vermeintlich längst verstorbene „Spielmann Gottes“ Johannes Ku
 hlo\, der die Welt nicht mehr versteht\, hier zur Behandlung gebettet. Die
  ungewollten Zimmernachbarn – und nicht nur sie – werden mit Kuhlos ab
 erwitziger Auferstehung im Hier und Jetzt umgehen müssen.\n\nJohannes Kuh
 lo (1856–1941) gründete nicht nur den Posaunenchor am Evangelisch Stift
 ischen Gymnasium Gütersloh und wirkte von 1893 bis 1923 als Pastor sowie 
 Leiter der Westfälischen Diakonenanstalt „Nazareth“ in Bethel bei Fri
 edrich von Bodelschwingh\, sondern gilt auch als Gründer der evangelische
 n Posaunenchorbewegung in Deutschland. Von Anfang der 1930er Jahre bis zu 
 seinem Tod war er Unterstützer Adolf Hitlers und des Nationalsozialismus.
 \n\nAnlässlich des Stadtjubiläums „200 Jahre Gütersloh“ widmet sich
  der mehrfach preisgekrönte Autor Joachim Zelter mit der Tragikomödie 
 „Der Posaunengeneral – Eine Auferstehung“ nach Johann Heinrich Volke
 ning in „Der Prediger“ (2019) zum zweiten Mal einer ebenso ambivalente
 n wie prägenden Figur der Stadtgeschichte.\n\n\nFoto: Jacques Malan (c) C
 hristian Kleiner
ATTACH;FMTTYPE=image/jpeg:https://www.gt-info.de/wp-content/uploads/2025/0
 8/Der_Posaunengeneral_Favoritenbild_JacquesMalan_foto_c_christiankleiner_0
 1-e1755017819274.jpg
CATEGORIES:Schauspiel
LOCATION:Theater Gütersloh \, Großer Saal\, Hans-Werner-Henze-Platz 1\, G
 ütersloh\, Deutschland
X-APPLE-STRUCTURED-LOCATION;VALUE=URI;X-ADDRESS=Hans-Werner-Henze-Platz 1\,
  Gütersloh\, Deutschland;X-APPLE-RADIUS=100;X-TITLE=Theater Gütersloh \,
  Großer Saal:geo:0,0
END:VEVENT
BEGIN:VTIMEZONE
TZID:Europe/Berlin
X-LIC-LOCATION:Europe/Berlin
BEGIN:DAYLIGHT
DTSTART:20250330T030000
TZOFFSETFROM:+0100
TZOFFSETTO:+0200
TZNAME:CEST
END:DAYLIGHT
END:VTIMEZONE
END:VCALENDAR