BEGIN:VCALENDAR
VERSION:2.0
PRODID:-//wp-events-plugin.com//7.2.3.1//EN
TZID:Europe/Brussels
X-WR-TIMEZONE:Europe/Brussels
BEGIN:VEVENT
UID:58@gt-info.de
DTSTART;TZID=Europe/Berlin:20250705T190000
DTEND;TZID=Europe/Berlin:20250705T190000
DTSTAMP:20250521T094318Z
URL:https://www.gt-info.de/events/der-laerm-des-lebens/
SUMMARY:„Der Lärm des Lebens“
DESCRIPTION:Tatort-Schauspieler Jörg Hartmann liest in der Weberei\nIn „
 Der Lärm des Lebens“ erzählt Jörg Hartmann auf hinreißende Weise sei
 ne Geschichte und die seiner Eltern und Großeltern. Es ist eine Liebeserk
 lärung an die Kraft der Familie – und an den Ruhrpott. Ob es um die Sit
 uation seiner gehörlosen Großeltern im Nationalsozialismus geht\, die Le
 bensklugheit seiner Mutter\, die für kurze Zeit eine Pommesbude betrieb\,
  die Demenzerkrankung seines Vaters\, der Dreher und leidenschaftlicher Ha
 ndballer war\, die vielen skurrilen Erlebnisse in der Großfamilie oder um
  Schlüsselbegegnungen\, die er als Schauspieler hatte – immer hält Har
 tmann die Balance zwischen Tragik und Komik.\n\nEr hat dabei einen kraftvo
 llen Erzählton – persönlich\, berührend\, humorvoll. Und fragt: Warum
  kehren wir immer wieder zu unseren Wurzeln zurück? Es geht Hartmann daru
 m\, den Kreislauf des Lebens zu fassen: Eltern und Kinder\, Anfang und End
 e\, Aufbruch und Ankunft\, Werden und Vergehen – eben alles\, was zum ge
 liebten Lärm des Lebens gehört. Ein weises\, geschichtenpralles Buch üb
 er Herkunft und Heimat – und den Wunsch\, sich davon zu lösen und in di
 e Welt zu ziehen. Eine Éducation sentimentale und\, wie nebenbei\, eine M
 entalitätsgeschichte der Bundesrepublik.\n\nFoto: Jörg Hartmann © Silvi
 a Medina
ATTACH;FMTTYPE=image/jpeg:https://www.gt-info.de/wp-content/uploads/2025/0
 5/Foto-1-Joerg-Hartmann-c-Silvia-Medina-scaled.jpg
CATEGORIES:Lesung
LOCATION:Die Weberei\,  Bogenstraße 1-8\, 33330 Gütersloh\, Deutschland
X-APPLE-STRUCTURED-LOCATION;VALUE=URI;X-ADDRESS= Bogenstraße 1-8\, 33330 G
 ütersloh\, Deutschland;X-APPLE-RADIUS=100;X-TITLE=Die Weberei:geo:0,0
END:VEVENT
BEGIN:VTIMEZONE
TZID:Europe/Berlin
X-LIC-LOCATION:Europe/Berlin
BEGIN:DAYLIGHT
DTSTART:20250330T030000
TZOFFSETFROM:+0100
TZOFFSETTO:+0200
TZNAME:CEST
END:DAYLIGHT
END:VTIMEZONE
END:VCALENDAR