BEGIN:VCALENDAR
VERSION:2.0
PRODID:-//wp-events-plugin.com//7.2.3.1//EN
TZID:Europe/Brussels
X-WR-TIMEZONE:Europe/Brussels
BEGIN:VEVENT
UID:62@gt-info.de
DTSTART;TZID=Europe/Berlin:20250921T110000
DTEND;TZID=Europe/Berlin:20250921T110000
DTSTAMP:20250917T102635Z
URL:https://www.gt-info.de/events/der-kiezkluengel-3/
SUMMARY:Der Kiezklüngel
DESCRIPTION:Eine feste Institution im Weberei-Park\nAn jedem dritten Sonnta
 g im Monat bis einschließlich September wird im schönen Weberei-Park mun
 ter getrödelt. Von Spielzeug\, Kleidung\, Bücher bis hin zu Schallplatte
 n wird alles angeboten\, was die Trödelherzen höher schlagen lässt. Ab 
 11:00 Uhr geht es los. Für die Kinder steht mit freundlicher Unterstützu
 ng der Volksbank in Ostwestfalen eine Hüpfburg bereit. Auf die frisch ers
 tanden Schnapper können die Gäste im geöffneten Biergarten anstoßen un
 d sich mit leckeren Hot Dogs und Eis stärken. Der Kiezklüngel geht bis i
 n den Nachmittag hinein.\nDie beliebten Standplätze sind immer schnell ve
 rgriffen\, also schnell einen Standplatz sichern.\nDie nächsten Termine s
 ind am 15. Juni\, 20. Juli\, 17. August und 21. September.\n\nMehr Infos u
 nd Tickets zu allen Veranstaltungen gibt es unter www.weberei.de.\n\nFoto:
  Die Weberei
ATTACH;FMTTYPE=image/jpeg:https://www.gt-info.de/wp-content/uploads/2025/0
 5/Foto-2-Kiezkluengel-e1758120052834.jpg
CATEGORIES:Flohmarkt,Outdoor
LOCATION:Die Weberei\,  Bogenstraße 1-8\, 33330 Gütersloh\, Deutschland
X-APPLE-STRUCTURED-LOCATION;VALUE=URI;X-ADDRESS= Bogenstraße 1-8\, 33330 G
 ütersloh\, Deutschland;X-APPLE-RADIUS=100;X-TITLE=Die Weberei:geo:0,0
END:VEVENT
BEGIN:VTIMEZONE
TZID:Europe/Berlin
X-LIC-LOCATION:Europe/Berlin
BEGIN:DAYLIGHT
DTSTART:20250330T030000
TZOFFSETFROM:+0100
TZOFFSETTO:+0200
TZNAME:CEST
END:DAYLIGHT
END:VTIMEZONE
END:VCALENDAR