BEGIN:VCALENDAR
VERSION:2.0
PRODID:-//wp-events-plugin.com//7.2.3.1//EN
TZID:Europe/Brussels
X-WR-TIMEZONE:Europe/Brussels
BEGIN:VEVENT
UID:65@gt-info.de
DTSTART;TZID=Europe/Berlin:20250614T190000
DTEND;TZID=Europe/Berlin:20250614T190000
DTSTAMP:20250522T123127Z
URL:https://www.gt-info.de/events/c-city-music-night/
SUMMARY:C-City Music Night
DESCRIPTION:Grenzen überwinden\, musikalische Vielfalt feiern und den euro
 päischen Gedanken mit Leben füllen: Unter dem Motto „Europäische Klä
 nge\, grenzenlose Begegnungen“ lädt das europäische Kulturprojekt C-Ci
 ty – Europa liegt nebenan - zur C-City Music Night ein. Diese besondere 
 Musiknacht\, die eins der 200 Jubiläumshighlights ausmacht\, läuft am Fr
 eitag\, 14. Juni\, in der Stadthalle Gütersloh ab 19 Uhr im Kleinen Saal\
 , Einlass ist ab 18.30 Uhr. Der Eintritt für den europäischen Musikgenus
 s ist frei.\n\nDer Abend soll Musikerinnen und Musiker aus den Güterslohe
 r Partnerstädten Grudziądz (Polen) und Broxtowe (Großbritannien) mit lo
 kalen Künstlerinnen und Künstlern aus Gütersloh zusammenbringen. Gemein
 sam gestalten sie ein abwechslungsreiches Konzertprogramm\, das musikalisc
 he Stile\, Kulturen und Menschen verbindet. Im Anschluss an die Konzertbei
 träge sind alle Gäste eingeladen\, sich an einer offenen Jamsession zu b
 eteiligen – aktiv musizierend oder als Zuhörende. Die Improvisation geh
 t ab etwa 22 Uhr los. Einige Instrumente werden gestellt\, es können aber
  auch eigene mitgebracht werden.\n\nEröffnet wird die Veranstaltung von d
 er Big Band der Anne-Frank-Gesamtschule. Seit mehr als 30 Jahren begeister
 t das Ensemble unter der Leitung von Gudrun Pollmeier mit energiegeladenen
  Interpretationen verschiedenster Musikrichtungen. Mit Saxophonen\, Trompe
 ten\, Klarinetten\, Posaunen\, Euphonien\, Piano\, E-Bass und Schlagzeug b
 ringt die Schulband auch diesmal ein vielseitiges Repertoire auf die Bühn
 e. Aus der britischen Partnerstadt Broxtowe reist das renommierte Jeanie B
 arton Quartet an. Die Formation um Sängerin Jeanie Barton steht für fein
 fühligen\, traditionell geprägten Jazz. Barton\, bekannt für ihre ausdr
 ucksstarke Stimme und charismatische Bühnenpräsenz\, hat bereits für Gr
 ößen wie Shirley Bassey gesungen. Begleitet wird sie von Pianist Neil Hu
 nter\, Gitarrist und Bassist Paul Gray sowie Drummer Ian Beestin – ein Q
 uartett\, das musikalische Tiefe mit spontaner Interaktion verbindet. Für
  rockige Töne sorgt die Band The Bastard Brothers aus Grudziądz. Die Mus
 iker spielen eine kraftvolle Mischung aus Rock\, Country und Blues und wur
 den 2019 durch das polnische Indie-Label Kayax einem breiteren Publikum be
 kannt. Ihr Debütalbum Bang! Bang!\, produziert von dem renommierten polni
 schen Gitarristen Piotr Łukaszewski\, wurde als „Entdeckung des Jahres
 “ gefeiert und lief unter anderem bei Radio 357 und Nowy Świat. Aktuell
  arbeitet die Band an einem neuen Album.\n\nDie C-City Music Night ist Tei
 l des interkulturellen Projekts C-City – Europa liegt nebenan\, das die 
 Gütersloher Städtepartnerschaften durch kreative Formate erlebbar macht.
  Ziel ist es\, Menschen aus unterschiedlichen Ländern in einen lebendigen
  Austausch zu bringen\, kulturelle Verbindungen zu stärken und ein gemein
 sames europäisches Netzwerk zu fördern – offen\, lokal verankert und k
 reativ.\n\n \n\n&nbsp\;
ATTACH;FMTTYPE=image/jpeg:https://www.gt-info.de/wp-content/uploads/2025/0
 5/C-City-Musicnight-Jeanie-Barton-Quartet_C-Jim-Bell-scaled.jpg
CATEGORIES:Konzert,Musikveranstaltung
LOCATION:Stadthalle\, Kleiner Saal\, Friedrichstraße 10\, 33330 Gütersloh
 \, Deutschland
X-APPLE-STRUCTURED-LOCATION;VALUE=URI;X-ADDRESS=Friedrichstraße 10\, 33330
  Gütersloh\, Deutschland;X-APPLE-RADIUS=100;X-TITLE=Stadthalle\, Kleiner 
 Saal:geo:0,0
END:VEVENT
BEGIN:VTIMEZONE
TZID:Europe/Berlin
X-LIC-LOCATION:Europe/Berlin
BEGIN:DAYLIGHT
DTSTART:20250330T030000
TZOFFSETFROM:+0100
TZOFFSETTO:+0200
TZNAME:CEST
END:DAYLIGHT
END:VTIMEZONE
END:VCALENDAR