BEGIN:VCALENDAR
VERSION:2.0
PRODID:-//wp-events-plugin.com//7.2.3.1//EN
TZID:Europe/Brussels
X-WR-TIMEZONE:Europe/Brussels
BEGIN:VEVENT
UID:127@gt-info.de
DTSTART;TZID=Europe/Berlin:20250822T193000
DTEND;TZID=Europe/Berlin:20250822T193000
DTSTAMP:20250808T184013Z
URL:https://www.gt-info.de/events/bingoabend-im-weberei-biergarten/
SUMMARY:Bingoabend im Weberei-Biergarten
DESCRIPTION:Bingo auf der Weberei-Terrasse: Am Freitag\, 22. August\, werde
 n ab 19:30 Uhr die Kugeln gedreht
ATTACH;FMTTYPE=image/jpeg:https://www.gt-info.de/wp-content/uploads/2025/0
 8/Foto_Bingo_Terrasse.jpg
CATEGORIES:Bingo
END:VEVENT
BEGIN:VTIMEZONE
TZID:Europe/Berlin
X-LIC-LOCATION:Europe/Berlin
BEGIN:DAYLIGHT
DTSTART:20250330T030000
TZOFFSETFROM:+0100
TZOFFSETTO:+0200
TZNAME:CEST
END:DAYLIGHT
END:VTIMEZONE
END:VCALENDAR