BEGIN:VCALENDAR
VERSION:2.0
PRODID:-//wp-events-plugin.com//7.2.3.1//EN
TZID:Europe/Brussels
X-WR-TIMEZONE:Europe/Brussels
BEGIN:VEVENT
UID:139@gt-info.de
DTSTART;TZID=Europe/Berlin:20250909T193000
DTEND;TZID=Europe/Berlin:20250909T193000
DTSTAMP:20250822T154516Z
URL:https://www.gt-info.de/events/anne-sauer-im-leben-nebenan/
SUMMARY:Anne Sauer – Im Leben nebenan
DESCRIPTION:Eines Morgens erwacht Toni nicht wie gewohnt neben ihrem langj
 ährigen Freund in ihrer kleinen Wohnung in der Großstadt. Stattdessen is
 t sie in einer anderen Welt: hell\, ordentlich eingerichtet. Der Blick aus
  dem Fenster? Seltsam vertraut. Antonia versteht: Sie ist wieder in dem Do
 rf ihrer Kindheit\, mit einem Baby auf dem Schoß – und einem Mann aus i
 hrer Vergangenheit. Sie erwacht in einem Leben\, das nicht ihres ist. Oder
  doch? Anne Sauer erzählt in ihrem Debüt davon\, wie das eigene Leben v
 erlaufen könnte\, hätte man die eine entscheidende Abzweigung nicht geno
 mmen.\nDienstag\, 9. September 2025\, 19:30 Uhr Buchhandlung Markus\, Mü
 nsterstraße 3 Eintritt VVK 14\,- €\, (erm. 13\,- €)\, AK 16\,- €
ATTACH;FMTTYPE=image/jpeg:https://www.gt-info.de/wp-content/uploads/2025/0
 8/Anne-Sauer-c-Tara-Wolff.jpg
CATEGORIES:Lesung
LOCATION:Buchhandlung Markus\, Münsterstraße 3\, Gütersloh\, 33330\, Deu
 tschland
X-APPLE-STRUCTURED-LOCATION;VALUE=URI;X-ADDRESS=Münsterstraße 3\, Güters
 loh\, 33330\, Deutschland;X-APPLE-RADIUS=100;X-TITLE=Buchhandlung Markus:g
 eo:0,0
END:VEVENT
BEGIN:VTIMEZONE
TZID:Europe/Berlin
X-LIC-LOCATION:Europe/Berlin
BEGIN:DAYLIGHT
DTSTART:20250330T030000
TZOFFSETFROM:+0100
TZOFFSETTO:+0200
TZNAME:CEST
END:DAYLIGHT
END:VTIMEZONE
END:VCALENDAR