BEGIN:VCALENDAR
VERSION:2.0
PRODID:-//wp-events-plugin.com//7.2.3.1//EN
TZID:Europe/Brussels
X-WR-TIMEZONE:Europe/Brussels
BEGIN:VEVENT
UID:143@gt-info.de
DTSTART;TZID=Europe/Berlin:20250914T110000
DTEND;TZID=Europe/Berlin:20250914T140000
DTSTAMP:20250828T151323Z
URL:https://www.gt-info.de/events/975-jahre-isselhorst-ein-blick-zurueck/
SUMMARY:975 Jahre Isselhorst | Ein Blick zurück
DESCRIPTION:Film- und Fototag in der Festhalle Isselhorst\nine Woche späte
 r\, Sonntag\, 14. September\, lädt der Heimatverein Isselhorst zu einem g
 anz besonderen Rückblick ein. In der Festhalle dreht sich alles um die Ge
 schichte des Ortes – mit historischen Fotos\, Filmen und Erinnerungen an
  die große 950-Jahr-Feier im Jahr 2000. Von 11 bis 17 Uhr können Besuche
 r in mehreren Dauerschleifen Fotos und Filmausschnitte bestaunen\, begleit
 et von Kommentaren und Anekdoten. Höhepunkt ist der Film vom Festumzug de
 r 950-Jahr-Feier sowie eine kommentierte Bildershow mit rund 150 Fotos\, d
 ie unter dem Motto „Wie es war …???“ spannende Einblicke in die dama
 ligen Planungen und Erlebnisse geben.\n\nZwischendurch gibt es eine kleine
  Feierstunde und zum Abschluss zeigt Rudi Schröder den Klassiker „Dinne
 r for One“ – ein humorvoller Ausklang eines besonderen Tages. Für das
  leibliche Wohl sorgt ein Café der AWO\, außerdem gibt es einen Büchert
 isch\, einen Infostand des DHVI und gemütliche Plauderecken für angeregt
 e Gespräche.
ATTACH;FMTTYPE=image/jpeg:https://www.gt-info.de/wp-content/uploads/2025/0
 8/image109-1.jpg
CATEGORIES:Kino
LOCATION:Dorfkern Isselhorst\, Haller Straße\, 33334 Gütersloh\, Deutschl
 and
X-APPLE-STRUCTURED-LOCATION;VALUE=URI;X-ADDRESS=Haller Straße\, 33334 Güt
 ersloh\, Deutschland;X-APPLE-RADIUS=100;X-TITLE=Dorfkern Isselhorst:geo:0,
 0
END:VEVENT
BEGIN:VTIMEZONE
TZID:Europe/Berlin
X-LIC-LOCATION:Europe/Berlin
BEGIN:DAYLIGHT
DTSTART:20250330T030000
TZOFFSETFROM:+0100
TZOFFSETTO:+0200
TZNAME:CEST
END:DAYLIGHT
END:VTIMEZONE
END:VCALENDAR