BEGIN:VCALENDAR
VERSION:2.0
PRODID:-//wp-events-plugin.com//7.2.3.1//EN
TZID:Europe/Brussels
X-WR-TIMEZONE:Europe/Brussels
BEGIN:VEVENT
UID:142@gt-info.de
DTSTART;TZID=Europe/Berlin:20250906T140000
DTEND;TZID=Europe/Berlin:20250906T140000
DTSTAMP:20250828T150734Z
URL:https://www.gt-info.de/events/975-jahre-in-isselhorst-gehts-rund/
SUMMARY:975 Jahre | In Isselhorst geht's rund
DESCRIPTION:Samstag\, 6. September\, heißt es: „In Isselhorst geht’s r
 und!“ – und das wortwörtlich. Denn an diesem Tag steht das Fahrrad im
  Mittelpunkt. Ob passionierter Radprofi oder gemütlicher Sonntagsfahrer\,
  ob jung oder alt: Alle sind eingeladen\, gemeinsam in die Pedale zu trete
 n und das Fahrrad als umweltfreundliches\, gesundes und verbindendes Verke
 hrsmittel zu feiern.\n\nRund um den Ortskern erwarten die Besucher zahlrei
 che Aktionen: Von einer spannenden Fahrradrallye über Fußball-Dart und W
 heelsoccer bis hin zu Radball – hier kommt garantiert keine Langeweile a
 uf. Auch historische Fahrräder rollen ein und werden bei einer gemeinsame
 n Ausfahrt durch Isselhorst oder den Eselsweg präsentiert. Wer das origin
 ellste oder älteste Fahrrad mitbringt\, kann sich auf eine besondere Prä
 mierung freuen.\n\nFür die musikalische Unterhaltung sorgen ab 18 Uhr die
  Bands Fortezza und Gtown\, die mit ihren  Konzerten den Tag stimmungsvol
 l ausklingen lassen. Dazwischen gibt es ein buntes Bühnenprogramm mit Hul
 a-Hoop-Einlagen der Grundschule\, Stepptanz\, Rhythmischer Sportgymnastik\
 , einem Posaunenchor und sogar Fahrrad-Lyrik – ein echtes Fest für alle
  Sinne!\n\nFoto: Heimatverein Isselhorst
ATTACH;FMTTYPE=image/jpeg:https://www.gt-info.de/wp-content/uploads/2025/0
 8/image082-1.jpg
CATEGORIES:Outdoor
LOCATION:Dorfkern Isselhorst\, Haller Straße\, 33334 Gütersloh\, Deutschl
 and
X-APPLE-STRUCTURED-LOCATION;VALUE=URI;X-ADDRESS=Haller Straße\, 33334 Güt
 ersloh\, Deutschland;X-APPLE-RADIUS=100;X-TITLE=Dorfkern Isselhorst:geo:0,
 0
END:VEVENT
BEGIN:VTIMEZONE
TZID:Europe/Berlin
X-LIC-LOCATION:Europe/Berlin
BEGIN:DAYLIGHT
DTSTART:20250330T030000
TZOFFSETFROM:+0100
TZOFFSETTO:+0200
TZNAME:CEST
END:DAYLIGHT
END:VTIMEZONE
END:VCALENDAR