BEGIN:VCALENDAR
VERSION:2.0
PRODID:-//wp-events-plugin.com//7.2.3.1//EN
TZID:Europe/Brussels
X-WR-TIMEZONE:Europe/Brussels
BEGIN:VEVENT
UID:942@gt-info.de
DTSTART;TZID=Europe/Berlin:20260423T200000
DTEND;TZID=Europe/Berlin:20260423T220000
DTSTAMP:20260422T074709Z
URL:https://www.gt-info.de/events/14424/
SUMMARY:L'Etranger – Der Fremde
DESCRIPTION:Mit seiner meisterlichen Neuinterpretation von Albert Camus’ 
 gleichnamigem Literaturklassiker gelingt François Ozon ein virtuoses Werk
  von zeitloser Relevanz.
ATTACH;FMTTYPE=image/jpeg:https://www.gt-info.de/wp-content/uploads/2026/0
 4/Bildschirmfoto-2026-04-22-um-09.42.53.png
LOCATION:Bambi & Löwenherz\, Bogenstraße 3\, 33330 Gütersloh \, Nordrhei
 n-Westfalen \, 33330\, Deutschland
X-APPLE-STRUCTURED-LOCATION;VALUE=URI;X-ADDRESS=Bogenstraße 3\, 33330 Güt
 ersloh \, Nordrhein-Westfalen \, 33330\, Deutschland;X-APPLE-RADIUS=100;X-
 TITLE=Bambi & Löwenherz:geo:0,0
END:VEVENT
BEGIN:VTIMEZONE
TZID:Europe/Berlin
X-LIC-LOCATION:Europe/Berlin
BEGIN:DAYLIGHT
DTSTART:20260329T030000
TZOFFSETFROM:+0100
TZOFFSETTO:+0200
TZNAME:CEST
END:DAYLIGHT
END:VTIMEZONE
END:VCALENDAR